Workbook
Name _ftn1: 'II Возвращено в изб. фонд'!$A$23
Name _ftn2: 'II Возвращено в изб. фонд'!$A$24
Name _ftnref1: 'I Поступление в фонд'!#REF!
Name _ftnref2: 'II Возвращено в изб. фонд'!$C$20

Sheet I Поступление в фонд
A3: УЧЕТ поступления и расходования денежных средств, в том числе по каждой операции, избирательного фонда избирательного объединения, кандидата
A7: Выборы депутатов Законодательного Собрания Владимирской области восьмого созыва
A8: (наименование избирательной кампании)
A9: Козлов Сергей Владимирович
A10: (наименование избирательного объединения/фамилия, имя, отчество кандидата)
A11: Одномандатный избирательный округ № 14
A12: (наименование избирательного округа)
A13: № 40810810310009000188, Структурное подразделение № 8611/0161 ПАО Сбербанк, 601352, г. Судогда, пер. Большой Советский, 4
A14: (номер специального избирательного счета, наименование и адрес филиала ПАО Сбербанк/иной кредитной организации)
A16: I. Поступило средств в избирательный фонд
A18: Дата зачисления денежных средств на счет | B18: Источник поступления денежных средств* | C18: Шифр строки финансового отчета | D18: Сумма, руб. | E18: Документ, подтверждающий поступление денежных средств | F18: Денежные средства, поступившие с нарушением установленного порядка и подлежащие возврату, руб.
A19: 1 | B19: 2 | C19: 3 | D19: 4 | E19: 5 | F19: 6
A20: 14.07.2023 | B20: собственные средства кандидата Козлова Сергея Владимировича | C20: 30 | D20: 200000 | E20: Приходный кассовый ордер № 420317 от 14.07.2023 | F20: 0
A21: 11.08.2023 | B21: собственные средства кандидата Козлова Сергея Владимировича | C21: 30 | D21: 10000 | E21: Приходный кассовый ордер № 501237 от 11.08.2023 | F21: 0
A22: 22.08.2023 | B22: собственные средства кандидата Козлова Сергея Владимировича | C22: 30 | D22: 35000 | E22: Приходный кассовый ордер № 532205 от 22.08.2023 | F22: 0
A23: 23.08.2023 | B23: собственные средства кандидата Козлова Сергея Владимировича | C23: 30 | D23: 10000 | E23: Приходный кассовый ордер № 534556 от 23.08.2023 | F23: 0
B24: Итого: | D24: =SUM(D20:D23) -> 255000 | F24: =SUM(F23:F23) -> 0
A26: * Для гражданина указываются фамилия, имя, отчество, дата рождения, адрес места жительства, серия и номер паспорта или заменяющего его документа, информация о гражданстве; для юридического лица – ИНН, наименование, дата регистрации, банковские реквизиты, отметка об отсутствии ограничений, предусмотренных пунктом 4 статьи 57 Закона Владимирской области от 13.02.2003 № 10-ОЗ «Избирательный кодекс Владимирской области»; для собственных средств избирательного объединения – наименование избирательного объединения (могут дополнительно указываться ИНН, банковские реквизиты; для собственных средств кандидата – фамилия, имя, отчество кандидата (могут дополнительно указываться дата рождения, адрес места жительства, серия и номер паспорта или заменяющего его документа, информация о гражданстве.

Sheet II Возвращено в изб. фонд
A1: II. Возвращено денежных средств в избирательный фонд (в т.ч. ошибочно перечисленных, неиспользованных)**
A2: Дата возврата денежных средств на счет | B2: Кому перечислены денежные средства | C2: Шифр строки финансового отчета | D2: Возвращено денежных средств на счет, руб | E2: Основание возврата денежных средств на счет | F2: Документ, подтверждающий возврат денежных средств
A3: 1 | B3: 2 | C3: 3 | D3: 4 | E3: 5 | F3: 6
D4: 0
B28: Итого: | D28: =SUM(D4:D27) -> 0
A30: ** В финансовом отчете возвраты в фонд неиспользованных и ошибочно перечисленных денежных средств не отражаются.

Sheet III Возврат|перечис-е в бюджет 
A1: III. Возвращено, перечислено в доход областного бюджета денежных средств из избирательного фонда
A3: Дата зачисления денежных средств на счет | B3: Дата возврата (перечисления) денежных средств со счета | C3: Источник поступления денежных средств*** | D3: Шифр строки финансового отчета | E3: Возвращено, перечислено в доход областного бюджета денежных средств, руб. | F3: Основание возврата (перечисления) денежных средств | G3: Документ, подтверждающий возврат (перечисление) денежных средств
A4: 1 | B4: 2 | C4: 3 | D4: 4 | E4: 5 | F4: 6 | G4: 7
A5: 45161 | B5: 45170 | C5: собственные средства кандидата Козлова Сергея Владимировича | D5: 170 | E5: 1778.2 | F5: Возврат части суммы собственных средств кандидата | G5: Банковский ордер № 390983 от 01.09.2023
C19: Итого: | E19: =SUM(E5:E18) -> 1778.2
A21: *** Для гражданина указываются фамилия, имя, отчество, адрес места жительства, серия и номер паспорта или заменяющего его документа; для юридического лица – ИНН, наименование, банковские реквизиты.

Sheet IV Израсходовано из изб. фонда
A1: IV. Израсходовано средств из избирательного фонда
A3: Дата расходной операции | B3: Кому перечислены денежные средства | C3: Шифр строки финансового отчета**** | D3: Сумма, руб. | E3: Виды расходов | F3: Документ, подтверждающий расход | G3: Основание для перечисления денежных средств | H3: Сумма ошибочно перечисленных, неиспользованных денежных средств, возвращенных в фонд, руб. | I3: Сумма фактически израсходованных денежных средств, руб.
A4: 1 | B4: 2 | C4: 3 | D4: 4 | E4: 5 | F4: 6 | G4: 7 | H4: 8 | I4: 9
A5: 45126 | B5: ИНН 3329060545, ООО «Спринт», р/с 40702810396180000415, ПАО РОСБАНК г. Москва | C5: 240 | D5: 16000 | E5: Оплата изготовления агитационных печатных материалов — баннер 340, 360 dpi, 6*3 м., 4 шт. | F5: Платежное поручение № 1 от 19.07.2023 | G5: Договор № 10 от 18.07.2023, счет № 219 от 18.07.2023 | H5: 0 | I5: 16000
A6: 24.07.2023 | B6: ИНН 332703983700, Канищев Сергей Анатольевич, р/с 40817810210002821124, ВЛАДИМИРСКОЕ ОТДЕЛЕНИЕ № 8611 ПАО СБЕРБАНК г. Владимир | C6: 240 | D6: 1000 | E6: Оплата изготовления аудиовизуального агитационного материала - баннера для светодиодного экрана 720*360, jpeg, горизонтальный, тираж 1 экз. | F6: Платежное поручение № 6 от 24.07.2023 | G6: Договор № б/н от 24.07.2023 | H6: 0 | I6: 1000
A7: 24.07.2023 | B7: ИНН 504015284490, ИП СУХИНА НАТАЛЬЯ ИГОРЕВНА, р/с 40802810010000021526, ВЛАДИМИРСКОЕ ОТДЕЛЕНИЕ № 8611 ПАО СБЕРБАНК г. Владимир | C7: 240 | D7: 10000 | E7: Оплата за размещение предвыборных агитационных материалов на средствах наружной рекламы | F7: Платежное поручение № 4 от 24.07.2023 | G7: Договор № 10 от 16.07.2023, счет № 51 от 16.07.2023 | H7: 0 | I7: 10000
A8: 24.07.2023 | B8: ИНН 330303024512, ИП ДОЛКОВ МИХАИЛ СЕРГЕЕВИЧ, р/с 40802810700810014136, Филиал "Центральный" Банка ВТБ (ПАО) г. Москва | C8: 240 | D8: 21000 | E8: Оплата за размещение предвыборных агитационных материалов на средствах наружной рекламы | F8: Платежное поручение № 3 от 24.07.2023 | G8: Договор № 13 от 16.07.2023, счет № 243 от 16.07.2023 | H8: 0 | I8: 21000
A9: 24.07.2023 | B9: ИНН 332803014435, ИП ЕФРЕМОВА МАРИНА НИКОЛАЕВНА, р/с 40802810302000033458, ЯРОСЛАВСКИЙ Ф-Л ПАО "ПРОМСВЯЗЬБАНК" г. Ярославль | C9: 240 | D9: 26452 | E9: Оплата за размещение предвыборных агитационных материалов на средствах наружной рекламы | F9: Платежное поручение № 2 от 24.07.2023 | G9: Договор № 72 от 16.07.2023, счет № 72 от 16.07.2023 | H9: 0 | I9: 26452
A10: 24.07.2023 | B10: ИНН 330302605930, ИП АНТОНОВ ДЕНИС ВИКТОРОВИЧ, р/с 40802810710000004791, ВЛАДИМИРСКОЕ ОТДЕЛЕНИЕ № 8611 ПАО СБЕРБАНК г. Владимир | C10: 240 | D10: 34000 | E10: Оплата за размещение предвыборных агитационных материалов на средствах наружной рекламы | F10: Платежное поручение № 5 от 24.07.2023 | G10: Договор № 13 от 16.07.2023, счет № КА-103 от 20.07.2023 | H10: 0 | I10: 34000
A11: 25.07.2023 | B11: ИНН 330801026270, ИП ГУСЕНКОВ ПАВЕЛ СЕРГЕЕВИЧ, р/с 40802810301500146567, ООО "Банк Точка" г. Москва | C11: 240 | D11: 21450 | E11: Оплата за размещение предвыборных агитационных материалов на средствах наружной рекламы | F11: Платежное поручение № 7 от 25.07.2023 | G11: Договор № 31 от 25.07.2023, счет № 87 от 25.07.2023 | H11: 0 | I11: 21450
A12: 26.07.2023 | B12: ИНН 3327100714, Открытое акционерное общество "Владимирская офсетная типография" р/с № 40702810002200000743 ПАО "БАНК УРАЛСИБ" г. Москва | C12: 240 | D12: 4260 | E12: Оплата изготовления агитационных печатных материалов - плакат-объявление А4, 4+0, оф 80, тираж 500 экз. | F12: Платежное поручение № 11 от 26.07.2023 | G12: Договор № 148-юр от 25.07.2023, счет № 29758-НЗ от 25.07.2023 | H12: 0 | I12: 4260
A13: 26.07.2023 | B13: ИНН 3327100714, Открытое акционерное общество "Владимирская офсетная типография" р/с № 40702810002200000743 ПАО "БАНК УРАЛСИБ" г. Москва | C13: 240 | D13: 5400 | E13: Оплата изготовления агитационных печатных материалов - плакат А3, 4+0, мел 115, тираж 500 экз. | F13: Платежное поручение № 8 от 26.07.2023 | G13: Договор № 85-юр от 25.07.2023, счет № 29694-НЗ от 25.07.2023 | H13: 0 | I13: 5400
A14: 26.07.2023 | B14: ИНН 3327100714, Открытое акционерное общество "Владимирская офсетная типография" р/с № 40702810002200000743 ПАО "БАНК УРАЛСИБ" г. Москва | C14: 240 | D14: 5640 | E14: Оплата изготовления агитационных печатных материалов - плакат А4, 4+0, мел 115, тираж 1000 экз. | F14: Платежное поручение № 10 от 26.07.2023 | G14: Договор № 109-юр от 25.07.2023, счет № 29719-НЗ от 25.07.2023 | H14: 0 | I14: 5640
A15: 26.07.2023 | B15: ИНН 3327100714, Открытое акционерное общество "Владимирская офсетная типография" р/с № 40702810002200000743 ПАО "БАНК УРАЛСИБ" г. Москва | C15: 240 | D15: 13680 | E15: Оплата изготовления агитационных печатных материалов - буклет А4, 4+4, мел 115, тираж 4000 экз. | F15: Платежное поручение № 12 от 26.07.2023 | G15: Договор № 65-юр от 25.07.2023, счет № 29674-НЗ от 25.07.2023 | H15: 0 | I15: 13680
A16: 26.07.2023 | B16: ИНН 3327100714, Открытое акционерное общество "Владимирская офсетная типография" р/с № 40702810002200000743 ПАО "БАНК УРАЛСИБ" г. Москва | C16: 240 | D16: 26520 | E16: Оплата изготовления агитационных печатных материалов - информационный бюллетень 4А3, 4+4, газ, тираж 17000 экз. | F16: Платежное поручение № 9 от 26.07.2023 | G16: Договор № 136-юр от 25.07.2023, счет № 29746-НЗ от 25.07.2023 | H16: 0 | I16: 26520
A17: 04.08.2023 | B17: ИНН 3329060545, ООО "Спринт" р/с № 40702810396180000415 ПАО РОСБАНК г. Москва | C17: 240 | D17: 7782.6 | E17: Оплата изготовления агитационных печатных материалов - баннер 500, 720 dpi, 1,9*1,95 м, 4 шт, набивка люверсов, укреп. края | F17: Платежное поручение № 13 от 04.08.2023 | G17: Договор № 49 от 04.08.2023, счет № 274 от 04.08.2023 | H17: 0 | I17: 7782.6
... A21: 23.08.2023 | B21: ИНН 3327100714, Открытое акционерное общество "Владимирская офсетная типография" р/с № 40702810002200000743 ПАО "БАНК УРАЛСИБ" г. Москва | C21: 240 | D21: 30000 | E21: Оплата изготовления агитационных печатных материалов - информационный бюллетень 4А3, 4+4, газ, тираж 20000 экз. | F21: Платежное поручение № 17 от 23.08.2023 | G21: Договор № 385-юр от 22.08.2023, счет № 30103-НЗ от 22.08.2023 | H21: 0 | I21: 30000
B22: Итого: | D22: =SUM(D5:D21) -> 253221.8 | H22: =SUM(H5:H21) -> 0 | I22: =SUM(I5:I21) -> 253221.8
A24: Кандидат | E24: мп | H24: С.В. Козлов
F25: (подпись, инициалы, фамилия)
H26: 04.10.2023
H27: (дата)
A29: **** По шифру строки в финансовом отчете указывается сумма фактически израсходованных денежных средств.

Sheet Фин.отчет
D2: ИТОГОВЫЙ | F2: ФИНАНСОВЫЙ ОТЧЕТ
D3: (первый, итоговый, сводный)
A4: о поступлении и расходовании средств избирательного фонда избирательного объединения, кандидата
A5: ='I Поступление в фонд'!A7:F7 -> Выборы депутатов Законодательного Собрания Владимирской области восьмого созыва
C6: (наименование избирательной кампании)
A7: ='I Поступление в фонд'!A9:F9 -> Козлов Сергей Владимирович
C8: (наименование избирательного объединения/фамилия, имя, отчество кандидата)
A9: ='I Поступление в фонд'!A11:F11 -> Одномандатный избирательный округ № 14
C10: (наименование избирательного округа)
A11: ='I Поступление в фонд'!A13:F13 -> № 40810810310009000188, Структурное подразделение № 8611/0161 ПАО Сбербанк, 601352, г. Судогда, пер. Большой Советский, 4
A12: (номер специального избирательного счета, наименование и адрес филиала ПАО Сбербанк/иной кредитной организации)
A14: Строка финансового отчета | I14: Шифр строки | J14: Сумма, руб. | K14: Примечание
A15: 1 | I15: 2 | J15: 3 | K15: 4
A16: 1 | B16: Поступило средств в избирательный фонд, всего | I16: 10 | J16: =+J18+J24 -> 255000
A17: в том числе
A18: 1.1 | B18: Поступило средств в установленном порядке для формирования избирательного фонда | I18: 20 | J18: =SUM(J20:J23) -> 255000
A19: из них
A20: 1.1.1 | B20: Собственные средства избирательного объединения/кандидата | I20: 30 | J20: 255000
A21: 1.1.2 | B21: Средства, выделенные кандидату выдвинувшим его избиратель-ным объединением | I21: 40 | J21: =SUMIF('I Поступление в фонд'!$C$23:$C$23,Фин.отчет!I21,'I Поступление в фонд'!$D$23:$D$23) -> 0
A22: 1.1.3 | B22: Добровольные пожертвования гражданина | I22: 50 | J22: =SUMIF('I Поступление в фонд'!$C$23:$C$23,Фин.отчет!I22,'I Поступление в фонд'!$D$23:$D$23) -> 0
A23: 1.1.4 | B23: Добровольные пожертвования юридического лица | I23: 60 | J23: =SUMIF('I Поступление в фонд'!$C$23:$C$23,Фин.отчет!I23,'I Поступление в фонд'!$D$23:$D$23) -> 0
A24: 1.2 | B24: Поступило в избирательный фонд денежных средств, подпадающих под действие п. 1, 4 ст. 57 Закона Владимирской области от 13.02.2003 № 10-ОЗ* | I24: 70 | J24: =J26+J27+J28 -> 0
A25: из них
A26: 1.2.1 | B26: Собственные средства избирательного объединения / кандидата / средства, выделенные кандидату выдвинувшим его избирательным объединением | I26: 80 | J26: =SUMIF('I Поступление в фонд'!$C$23:$C$23,Фин.отчет!I26,'I Поступление в фонд'!$D$23:$D$23) -> 0
A27: 1.2.2 | B27: Средства гражданина | I27: 90 | J27: =SUMIF('I Поступление в фонд'!$C$23:$C$23,Фин.отчет!I27,'I Поступление в фонд'!$D$23:$D$23) -> 0
A28: 1.2.3 | B28: Средства юридического лица | I28: 100 | J28: =SUMIF('I Поступление в фонд'!$C$23:$C$23,Фин.отчет!I28,'I Поступление в фонд'!$D$23:$D$23) -> 0
A29: 2 | B29: Возвращено денежных средств из избирательного фонда, всего | I29: 110 | J29: 1778.2
A30: в том числе
A31: 2.1 | B31: Перечислено в доход областного бюджета | I31: 120 | J31: =SUMIF('III Возврат|перечис-е в бюджет '!$D$5:$D$18,Фин.отчет!I31,'III Возврат|перечис-е в бюджет '!$E$5:$E$18) -> 0
A32: 2.2 | B32: Возвращено жертвователям денежных средств, поступивших с нарушением установленного порядка установленного порядка | I32: 130 | J32: =SUM(J34:J36) -> 0
A33: из них
A34: 2.2.1 | B34: Гражданам, которым запрещено осуществлять пожертвования либо не указавшим обязательные сведения в платежном документе | I34: 140 | J34: =SUMIF('III Возврат|перечис-е в бюджет '!$D$5:$D$18,Фин.отчет!I34,'III Возврат|перечис-е в бюджет '!$E$5:$E$18) -> 0
A35: 2.2.2 | B35: Юридическим лицам, которым запрещено осуществлять пожертвования либо не указавшим обязательные сведения в платежном документе | I35: 150 | J35: =SUMIF('III Возврат|перечис-е в бюджет '!$D$5:$D$18,Фин.отчет!I35,'III Возврат|перечис-е в бюджет '!$E$5:$E$18) -> 0
A36: 2.2.3 | B36: Средств, поступивших с превышением предельного размера | I36: 160 | J36: =SUMIF('III Возврат|перечис-е в бюджет '!$D$5:$D$18,Фин.отчет!I36,'III Возврат|перечис-е в бюджет '!$E$5:$E$18) -> 0
A37: 2.3 | B37: Возвращено денежных средств, поступивших в установленном порядке | I37: 170 | J37: 1778.2
A38: 3 | B38: Израсходовано средств, всего | I38: 180 | J38: =SUM(J42:J49)+J40 -> 253221.8
A39: в том числе
A40: 3.1 | B40: На организацию сбора подписей избирателей | I40: 190 | J40: 0
A41: 3.1.1 | B41: Из них на оплату труда лиц, привлекаемых для сбора подписей избирателей | I41: 200 | J41: 0
A42: 3.2 | B42: На предвыборную агитацию через организации телерадиовещания | I42: 210 | J42: 0
...

Sheet Лист1
