Workbook
Name _ftn1: 'прил 2'!#REF!
Name _ftn2: 'прил 2'!#REF!
Name _ftn3: 'прил 2'!#REF!
Name _ftnref1: 'прил 2'!#REF!
Name _ftnref2: 'прил 2'!#REF!
Name _ftnref3: 'прил 2'!#REF!

Sheet прил 2
P1: Приложение 2 к Инструкции о порядке и формах учета и отчетности о поступлении средств в избирательные фонды кандидатов, избирательных объединений и расходовании этих средств, в том числе по каждой операции, при проведении выборов депутатов представительных органов и глав муниципальных образований на територии Владимирской области, утвержденной Постановлением Избирательной комиссии Владимирской области от 04.06.2015 № 86
E3: УЧЕТ
C4: поступления и расходования денежных средств, в том числе по каждой операции, избирательного фонда кандидата, избирательного объединения
C6: выборы депутатов Совета народных депутатов города Владимира двадцать седьмого созыва
C7: (наименование избирательной кампании)
C8: Фоменко Леонид Васильевич,
C9: (фамилия, имя, отчество кандидата, наименование избирательного объединения)
C10: одномандатный избирательный округ №8
C11: (наименование или номер избирательного округа)
C12: 40810810110009000016 в ОАО Сбербанк России в Дополнительном офисе №8611/0168, г. Владимир, проспект Ленина д.62
C13: (номер специального избирательного счета, наименование и адрес филиала ОАО «Сбербанк России»)
A15: 1. Поступило средств в избирательный фонд
A16: Дата зачисления средств на счет | D16: Источник поступления средств* | N16: Шифр строки финансового отчета | Q16: Сумма (рублей) | T16: Документ, подтверждающий поступление средств | Y16: Средства, поступившие с нарушением установленного порядка и подлежащие возврату (рублей)
A17: 1 | D17: 2 | N17: 3 | Q17: 4 | T17: 5 | Y17: 6
A18: 42195 | D18: 40703810510020100149 Владимирское региональное отделении Всероссийской политической партии "Единая Россия" | N18: 40 | Q18: 375000 | T18: 444 | Y18: 0
A19: 42219 | D19: 40703810510020100149 Владимирское региональное отделении Всероссийской политической партии "Единая Россия" | N19: 40 | Q19: 500000 | T19: 501 | Y19: 0
A20: 42235 | D20: 40703810510020100149 Владимирское региональное отделении Всероссийской политической партии "Единая Россия" | N20: 40 | Q20: 275000 | T20: 537 | Y20: 0
A21: 42254 | D21: Фоменко Леонид Васильевич 29 октября 1977 года рождения, место рождения: гор.Гулистан Сырдарьинской обл. Узбекской ССР, граажданство:РФ, паспорт гражданина России 1704 555053, выданный ОВД Ленинского района г.Владимир 08.02. 2005 г., зарегистрирован по месту жительства: Владимирская область, г. Владимир, ул.Перекопский гор., д.1 кв.5 | N21: 30 | Q21: 12000 | T21: приходно-кассовый ордер №1 | Y21: 0
A22: 42256 | D22: 40703810510020100149 Владимирское региональное отделении Всероссийской политической партии "Единая Россия" | N22: 40 | Q22: 75000 | Y22: 0
D46: Итого: | Q46: =SUM(Q18:S45) -> 1237000 | Y46: =SUM(Y18:AC45) -> 0
A49: * Для гражданина указываются фамилия, имя, отчество, дата рождения, адрес места жительства, серия и номер паспорта или заменяющего его документа, информация о гражданстве; для юридического лица – ИНН, наименование, дата регистрации, банковские реквизиты (наименование банка, номер расчетного счета), отметка об отсутствии ограничений, предусмотренных пунктом 4 статьи 57 Закона Владимирской области от 13.02.2003 № 10-ОЗ.
A51: II. Возвращено денежных средств в избирательный фонд (в т.ч. ошибочно перечисленных, неиспользованных)**
A52: Дата возврата средств на счет | D52: Кому перечислены средства | N52: Шифр строки финансового отчета | Q52: Возвращено, перечислено в бюджет средств (рублей) | T52: Основание возврата средств на счет | Y52: Документ, подтверждающий возврат средств
A53: 1 | D53: 2 | N53: 3 | Q53: 4 | T53: 5 | Y53: 6
Q54: 0
Q55: 0
Q56: 0
D59: Итого: | Q59: =SUM(Q54:S58) -> 0
A61: III. Возвращено, перечислено в бюджет средств избирательного фонда
A62: Дата зачисления средств на счет | C62: Дата возврата (перечисле-ния) средств со счета | E62: Источник поступления средств*** | N62: Шифр строки финансового отчета | Q62: Возвращено, перечислено в бюджет средств (рублей) | T62: Основание возврата (перечисления) средств | Y62: Документ, подтверждающий возврат (перечисление) средств
A63: 1 | C63: 2 | E63: 3 | N63: 4 | Q63: 5 | T63: 6 | Y63: 7
Q64: 0
E74: Итого: | Q74: =SUM(Q64:S73) -> 0
A76: ** В финансовом отчете возвраты в фонд неиспользованных и ошибочно перечисленных денежных средств не отражаются.
A77: *** Для гражданина указываются фамилия, имя, отчество, адрес места жительства, серия и номер паспорта или заменяющего его документа; информация о гражданстве, для юридического лица – ИНН, наименование, дата регистрации, банковские реквизиты (наименование бенка, номер расчетного счета).
A78: IV. Израсходовано средств из избирательного фонда
A79: Дата расходной операции | C79: Кому перечислены средства | H79: Шифр строки финансо-вого отчета**** | J79: Сумма (рублей) | M79: Виды расходов | Q79: Документ, подтверждающий расход | T79: Основание для перечисления денежных средств | W79: Сумма ошибочно перечисленных, неиспользо-ванных средств, возвращенных в фонд (рублей) | Z79: Сумма фактически израсходованных средств (рублей)
A80: 1 | C80: 2 | H80: 3 | J80: 4 | M80: 5 | Q80: 6 | T80: 7 | W80: 8 | Z80: 9
A81: 42200 | C81: ИНН 774000076 ПАО МТС р/с 40702810900000001735 ПАО "МТС-БАНК" г.Москва | H81: 280 | J81: 500 | M81: оплата связи - телефон доверия кандидата | Q81: платежное поручение №426065 от 15.07.2015 | T81: счет на предопату услуг от 15.0.2015 | W81: 0 | Z81: 500
A82: 42200 | C82: ООО "Владимрская офсетная типография" ИНН 3327100714 ,600036 р/с 40702810002200000743 в ОАО "Уралсиб" | H82: 240 | J82: 16756 | M82: М1 агитационный печатный материал-листовка биография | Q82: платежное поручение №426053 от 15.07.2015426053 | T82: счет 3 15628-НЗ от 13.07.2015 | W82: 0 | Z82: 16756
...

Sheet прил 11
F1: Приложение 11 к Инструкции о порядке и формах учета и отчетности о поступлении средств в избирательные фонды кандидатов, избирательных объединений и расходовании этих средств, в том числе по каждой операции, при проведении выборов депутатов представительных органов и глав муниципальных образований на территории Владимирской области, утвержденной Постановлением Избирательной комиссии Владимирской области от 04.06.2015 № 86
D3: Итоговый | I3: ФИНАНСОВЫЙ ОТЧЕТ
D4: (первый, итоговый)
A5: о поступлении и расходовании средств избирательного фонда кандидата, избирательного объединения при проведении выборов
A6: ='прил 2'!C6 -> выборы депутатов Совета народных депутатов города Владимира двадцать седьмого созыва
A7: (наименование избирательной кампании)
A8: ='прил 2'!C8 -> Фоменко Леонид Васильевич,
A9: (фамилия, имя, отчество кандидата, наименование избирательного объединения)
A10: ='прил 2'!C10 -> одномандатный избирательный округ №8
A11: (наименование или номер избирательного округа)
A12: ='прил 2'!C12 -> 40810810110009000016 в ОАО Сбербанк России в Дополнительном офисе №8611/0168, г. Владимир, проспект Ленина д.62
A13: (номер специального избирательного счета, наименование и адрес филиала ОАО «Сбербанк России»)
A14: Строка финансового отчета | J14: Шифр строки | L14: Сумма (рублей) | O14: Примечание
A15: 1 | J15: 2 | L15: 3 | O15: 4
A16: 1 | B16: Поступило средств в избирательный фонд, всего* | J16: 10 | L16: =SUM(L18,L24) -> 1237000
B17: в том числе
A18: 1.1 | B18: Поступило средств в установленном порядке для формирования избирательного фонда | J18: 20 | L18: =SUM(L20:N23) -> 1237000
B19: из них
A20: 1.1.1 | B20: Собственные средства кандидата, избирательного объединения | J20: 30 | L20: =SUMIF('прил 2'!N18:P45,30,'прил 2'!Q18:S45) -> 12000
A21: 1.1.2 | B21: Средства, выделенные кандидату выдвинувшим его избирательным объединением | J21: 40 | L21: =SUMIF('прил 2'!N18:P45,40,'прил 2'!Q18:S45) -> 1225000
A22: 1.1.3 | B22: Добровольные пожертвования гражданина | J22: 50 | L22: =SUMIF('прил 2'!N18:P45,50,'прил 2'!Q18:S45) -> 0
A23: 1.1.4 | B23: Добровольные пожертвования юридического лица | J23: 60 | L23: =SUMIF('прил 2'!N18:P45,60,'прил 2'!Q18:S45) -> 0
A24: 1.2 | B24: Поступило в избирательный фонд денежных средств, подпадающих под действие п. 1, 4, 5, 6 ст. 57 Закона Владимирской области от 13.02.2003 № 10-ОЗ** | J24: 70 | L24: =SUM(L26,L27,L28,L29) -> 0
B25: из них
A26: 1.2.1 | B26: Собственные средства кандидата, избирательного объединения | J26: 80 | L26: =SUMIF('прил 2'!N18:P45,80,'прил 2'!Q18:S45) -> 0
A27: 1.2.2 | B27: Средства, выделенные кандидату выдвинувшим его избирательным объединением | J27: 90 | L27: =SUMIF('прил 2'!N18:P45,90,'прил 2'!Q18:S45) -> 0
A28: 1.2.3 | B28: Средства гражданина | J28: 100 | L28: =SUMIF('прил 2'!N18:P45,100,'прил 2'!Q18:S45) -> 0
A29: 1.2.4 | B29: Средства юридического лица | J29: 110 | L29: =SUMIF('прил 2'!N18:P45,110,'прил 2'!Q18:S45) -> 0
A30: 2 | B30: Возвращено денежных средств из избирательного фонда, всего | J30: 120 | L30: =SUM(L32,L33,L38) -> 0
B31: в том числе
A32: 2.1 | B32: Перечислено в доход бюджета | J32: 130 | L32: =SUMIF('прил 2'!N64:P73,130,'прил 2'!Q64:S73) -> 0
A33: 2.2 | B33: Возвращено жертвователям денежных средств, поступивших с нарушением установленного порядка | J33: 140 | L33: =SUM(L35,L36,L37) -> 0
B34: из них
A35: 2.2.1 | B35: Гражданам, которым запрещено осуществлять пожертвования либо не указавшим обязательные сведения в платежном документе | J35: 150 | L35: =SUMIF('прил 2'!N64:P73,150,'прил 2'!Q64:S73) -> 0
A36: 2.2.2 | B36: Юридическим лицам, которым запрещено осуществлять пожертвования либо не указавшим обязательные сведения в платежном документе | J36: 160 | L36: =SUMIF('прил 2'!N64:P73,160,'прил 2'!Q64:S73) -> 0
A37: 2.2.3 | B37: Средств, превышающих предельный размер добровольных пожертвований | J37: 170 | L37: =SUMIF('прил 2'!N64:P73,170,'прил 2'!Q64:S73) -> 0
A38: 2.3 | B38: Возвращено жертвователям денежных средств, поступивших в установленном порядке | J38: 180 | L38: =SUMIF('прил 2'!N64:P73,180,'прил 2'!Q64:S73) -> 0
A39: 3 | B39: Израсходовано средств, всего | J39: 190 | L39: =SUM(L41,L43,L44,L45,L46,L47,L48,L49) -> 1237000
B40: в том числе
A41: 3.1 | B41: На организацию сбора подписей избирателей | J41: 200 | L41: =SUMIF('прил 2'!H81:I106,200,'прил 2'!Z81:AC106)+L42 -> 0
...

Sheet Порядок заполнения Учета
B2: новые строки можно добавлять только до голубой строки
B3: лишние (пустые) строки скрыть
B6: формат по образцу
G42: ячейка, содержащая формулу
J45: маркер заполнения
B47: При заполнении финансового отчета данные заносятся только в форму 2 "УЧЕТ поступления и расходования денежных средств, в том числе по каждой операции, избирательного фонда кандидата, избирательного объединения"
B48: Форма "Финансовый отчет" (Приложение 11) заполняется автоматически.
B49: При заполнении формы Учета (Приложение 2) необходимо:
B50: 1. Заполнить каждую графу соответствующего раздела, кроме графы 9 "Сумма фактически израсходованных средств" в разделе IV "Израсходовано средств избирательного фонда" (графа 9 заполняется автоматически)
B51: 2. В каждом разделе перед итоговой строкой должна оставаться незаполненной одна строка - голубая.
B52: 3.Если строк недостаточно, нужно добавить необходимое количество строк. Лишние (пустые) строки следует "скрыть"
B53: (выделить необходимое количество строк, при нажатии правой кнопки мыши в контекстном меню выбрать "скрыть". Если необходимо отобразить скрытые строки, выбрать "отобразить")
B54: 4. Вставленные строки необходимо привести к формату верхних строк. Для этого :выделите строку, формат которой нужно скопировать, на панели инструментов на вкладке "Главная" нажмите кнопку "Формат по образцу", далее выделите строку в которую необходимо скопировать формат.
B55: 5. Для автоматического заполнения ячеек в графе 9 раздела IV "Израсходовано средств избирательного фонда" во все вновь введенные ячейки нужно скопировать формулу.
B56: Скопировать формулу в соседние ячейки можно при помощи маркера заполнения ( + ), для этого выделите ячейку, содержащую формулу, и перетащите маркер заполнения в примыкающие к ней вновь введенные ячейки).
B59: Пароль | C59: 2015
